BEGIN:VCALENDAR
VERSION:2.0
PRODID:-//Hospice Marlborough - ECPv6.15.18//NONSGML v1.0//EN
CALSCALE:GREGORIAN
METHOD:PUBLISH
X-WR-CALNAME:Hospice Marlborough
X-ORIGINAL-URL:https://www.hospicemarlborough.org.nz
X-WR-CALDESC:Events for Hospice Marlborough
REFRESH-INTERVAL;VALUE=DURATION:PT1H
X-Robots-Tag:noindex
X-PUBLISHED-TTL:PT1H
BEGIN:VTIMEZONE
TZID:Pacific/Auckland
BEGIN:STANDARD
TZOFFSETFROM:+1300
TZOFFSETTO:+1200
TZNAME:NZST
DTSTART:20220402T140000
END:STANDARD
BEGIN:DAYLIGHT
TZOFFSETFROM:+1200
TZOFFSETTO:+1300
TZNAME:NZDT
DTSTART:20220924T140000
END:DAYLIGHT
BEGIN:STANDARD
TZOFFSETFROM:+1300
TZOFFSETTO:+1200
TZNAME:NZST
DTSTART:20230401T140000
END:STANDARD
BEGIN:DAYLIGHT
TZOFFSETFROM:+1200
TZOFFSETTO:+1300
TZNAME:NZDT
DTSTART:20230923T140000
END:DAYLIGHT
BEGIN:STANDARD
TZOFFSETFROM:+1300
TZOFFSETTO:+1200
TZNAME:NZST
DTSTART:20240406T140000
END:STANDARD
BEGIN:DAYLIGHT
TZOFFSETFROM:+1200
TZOFFSETTO:+1300
TZNAME:NZDT
DTSTART:20240928T140000
END:DAYLIGHT
END:VTIMEZONE
BEGIN:VEVENT
DTSTART;VALUE=DATE:20231108
DTEND;VALUE=DATE:20231113
DTSTAMP:20260421T025024
CREATED:20231002T031456Z
LAST-MODIFIED:20231025T004113Z
UID:1293-1699401600-1699833599@www.hospicemarlborough.org.nz
SUMMARY:Rapaura Springs Garden Marlborough 2023
DESCRIPTION:Garden Marlborough is one of New Zealand’s premier garden festivals. Held in November each year\, view the very best Marlborough has to offer with a series of garden tours\, garden themed workshops and social events. \nHospice Marlborough has a long-standing partnership with Garden Marlborough through our Volunteering Programme.  It’s a heartwarming collaboration where hospice volunteers assist the homeowners of several stunning half-day garden tours by supplying catering\, welcoming garden enthusiasts and serving morning and afternoon teas. In return\, a small percentage of ticket sales from the tour’s hospice is involved in\, goes directly to Hospice Marlborough\, enabling us to continue providing high-quality palliative care services across all of Marlborough. \nIn 2023\, the hospice volunteer team will be serving at eight homes across the following half-day garden tours. \n\nLakes & Streams Tour\nWai Tata Tour\nVista Tour\nHills & Plains Tour and\nBotanical Overload Tour\n\nFor more event details and to buy your tickets please visit www.gardenmarlborough.co.nz\nTickets on sale until further notice \nSpecial thanks also to the following who have supported us with catering this year ~ Karaka Kitchen\, Chateau Marlborough\, CBD Eatery\, Columbus Coffee Mitre 10 MEGA\, Sweet Creations\, Lorri Taylor\, Judith Bruce and the team at Ormond Nurseries.  
URL:https://www.hospicemarlborough.org.nz/event/rapaura-springs-garden-marlborough-2023/
LOCATION:Marlborough
CATEGORIES:Public
ATTACH;FMTTYPE=image/jpeg:https://www.hospicemarlborough.org.nz/wp-content/uploads/sites/437/2023/10/Image_Events.GM23.jpg
END:VEVENT
END:VCALENDAR